BEGIN:VCALENDAR
VERSION:2.0
PRODID:-//Wayne Township - ECPv6.15.20//NONSGML v1.0//EN
CALSCALE:GREGORIAN
METHOD:PUBLISH
X-ORIGINAL-URL:https://waynetwp.strivestg.com
X-WR-CALDESC:Events for Wayne Township
REFRESH-INTERVAL;VALUE=DURATION:PT1H
X-Robots-Tag:noindex
X-PUBLISHED-TTL:PT1H
BEGIN:VTIMEZONE
TZID:America/Chicago
BEGIN:DAYLIGHT
TZOFFSETFROM:-0600
TZOFFSETTO:-0500
TZNAME:CDT
DTSTART:20240310T080000
END:DAYLIGHT
BEGIN:STANDARD
TZOFFSETFROM:-0500
TZOFFSETTO:-0600
TZNAME:CST
DTSTART:20241103T070000
END:STANDARD
BEGIN:DAYLIGHT
TZOFFSETFROM:-0600
TZOFFSETTO:-0500
TZNAME:CDT
DTSTART:20250309T080000
END:DAYLIGHT
BEGIN:STANDARD
TZOFFSETFROM:-0500
TZOFFSETTO:-0600
TZNAME:CST
DTSTART:20251102T070000
END:STANDARD
BEGIN:DAYLIGHT
TZOFFSETFROM:-0600
TZOFFSETTO:-0500
TZNAME:CDT
DTSTART:20260308T080000
END:DAYLIGHT
BEGIN:STANDARD
TZOFFSETFROM:-0500
TZOFFSETTO:-0600
TZNAME:CST
DTSTART:20261101T070000
END:STANDARD
END:VTIMEZONE
BEGIN:VEVENT
DTSTART;TZID=America/Chicago:20251204T190000
DTEND;TZID=America/Chicago:20251204T200000
DTSTAMP:20260422T050434
CREATED:20250710T162023Z
LAST-MODIFIED:20250710T162023Z
UID:1573-1764874800-1764878400@waynetwp.strivestg.com
SUMMARY:Township Board Meeting
DESCRIPTION:The meeting is open to the public. All residents are welcome to attend.
URL:https://waynetwp.strivestg.com/event/township-board-meeting-6/
LOCATION:Township Offices\, 27W031 North Avenue\, West Chicago\, IL\, 60185\, United States
CATEGORIES:Meetings
END:VEVENT
BEGIN:VEVENT
DTSTART;TZID=America/Chicago:20251106T190000
DTEND;TZID=America/Chicago:20251106T200000
DTSTAMP:20260422T050434
CREATED:20250710T161933Z
LAST-MODIFIED:20250710T161933Z
UID:1571-1762455600-1762459200@waynetwp.strivestg.com
SUMMARY:Township Board Meeting
DESCRIPTION:The meeting is open to the public. All residents are welcome to attend.
URL:https://waynetwp.strivestg.com/event/township-board-meeting-5/
LOCATION:Township Offices\, 27W031 North Avenue\, West Chicago\, IL\, 60185\, United States
CATEGORIES:Meetings
END:VEVENT
BEGIN:VEVENT
DTSTART;TZID=America/Chicago:20251002T190000
DTEND;TZID=America/Chicago:20251002T200000
DTSTAMP:20260422T050434
CREATED:20250710T161850Z
LAST-MODIFIED:20250710T161850Z
UID:1568-1759431600-1759435200@waynetwp.strivestg.com
SUMMARY:Township Board Meeting
DESCRIPTION:The meeting is open to the public. All residents are welcome to attend.
URL:https://waynetwp.strivestg.com/event/township-board-meeting-4/
LOCATION:Township Offices\, 27W031 North Avenue\, West Chicago\, IL\, 60185\, United States
CATEGORIES:Meetings
END:VEVENT
BEGIN:VEVENT
DTSTART;TZID=America/Chicago:20250904T190000
DTEND;TZID=America/Chicago:20250904T200000
DTSTAMP:20260422T050434
CREATED:20250710T161809Z
LAST-MODIFIED:20250710T162047Z
UID:1565-1757012400-1757016000@waynetwp.strivestg.com
SUMMARY:Township Board Meeting
DESCRIPTION:The meeting is open to the public. All residents are welcome to attend.
URL:https://waynetwp.strivestg.com/event/township-board-meeting-3/
LOCATION:Township Offices\, 27W031 North Avenue\, West Chicago\, IL\, 60185\, United States
CATEGORIES:Meetings
END:VEVENT
BEGIN:VEVENT
DTSTART;TZID=America/Chicago:20250807T190000
DTEND;TZID=America/Chicago:20250807T200000
DTSTAMP:20260422T050434
CREATED:20250710T161729Z
LAST-MODIFIED:20250710T161729Z
UID:1562-1754593200-1754596800@waynetwp.strivestg.com
SUMMARY:Township Board Meeting
DESCRIPTION:The meeting is open to the public. All residents are welcome to attend.
URL:https://waynetwp.strivestg.com/event/township-board-meeting-2/
LOCATION:Township Offices\, 27W031 North Avenue\, West Chicago\, IL\, 60185\, United States
CATEGORIES:Meetings
END:VEVENT
BEGIN:VEVENT
DTSTART;TZID=America/Chicago:20250710T190000
DTEND;TZID=America/Chicago:20250710T200000
DTSTAMP:20260422T050434
CREATED:20250710T161603Z
LAST-MODIFIED:20250710T161603Z
UID:1559-1752174000-1752177600@waynetwp.strivestg.com
SUMMARY:Township Board Meeting
DESCRIPTION:The meeting is open to the public. All residents are welcome to attend.
URL:https://waynetwp.strivestg.com/event/township-board-meeting/
LOCATION:Township Offices\, 27W031 North Avenue\, West Chicago\, IL\, 60185\, United States
CATEGORIES:Meetings
END:VEVENT
END:VCALENDAR