BEGIN:VCALENDAR
VERSION:2.0
PRODID:-//Wayne Township - ECPv6.15.20//NONSGML v1.0//EN
CALSCALE:GREGORIAN
METHOD:PUBLISH
X-WR-CALNAME:Wayne Township
X-ORIGINAL-URL:https://waynetwp.strivestg.com
X-WR-CALDESC:Events for Wayne Township
REFRESH-INTERVAL;VALUE=DURATION:PT1H
X-Robots-Tag:noindex
X-PUBLISHED-TTL:PT1H
BEGIN:VTIMEZONE
TZID:America/Chicago
BEGIN:DAYLIGHT
TZOFFSETFROM:-0600
TZOFFSETTO:-0500
TZNAME:CDT
DTSTART:20240310T080000
END:DAYLIGHT
BEGIN:STANDARD
TZOFFSETFROM:-0500
TZOFFSETTO:-0600
TZNAME:CST
DTSTART:20241103T070000
END:STANDARD
BEGIN:DAYLIGHT
TZOFFSETFROM:-0600
TZOFFSETTO:-0500
TZNAME:CDT
DTSTART:20250309T080000
END:DAYLIGHT
BEGIN:STANDARD
TZOFFSETFROM:-0500
TZOFFSETTO:-0600
TZNAME:CST
DTSTART:20251102T070000
END:STANDARD
BEGIN:DAYLIGHT
TZOFFSETFROM:-0600
TZOFFSETTO:-0500
TZNAME:CDT
DTSTART:20260308T080000
END:DAYLIGHT
BEGIN:STANDARD
TZOFFSETFROM:-0500
TZOFFSETTO:-0600
TZNAME:CST
DTSTART:20261101T070000
END:STANDARD
END:VTIMEZONE
BEGIN:VEVENT
DTSTART;TZID=America/Chicago:20250909T123000
DTEND;TZID=America/Chicago:20250909T150000
DTSTAMP:20260422T173649
CREATED:20250728T170014Z
LAST-MODIFIED:20250728T170015Z
UID:1917-1757421000-1757430000@waynetwp.strivestg.com
SUMMARY:Bunco
DESCRIPTION:Ready to roll the dice and have a blast?  Come join us for Bunco—where the only thing more fun than the game is the laughter! Let’s get bunco-ing! \nCards and games are for SC members only. Contact the SC for information.
URL:https://waynetwp.strivestg.com/event/bunco-2/
LOCATION:Wayne Township Senior Center\, 27W031 North Avenue\, West Chicago\, IL\, 60185\, United States
CATEGORIES:Senior Center
ORGANIZER;CN="Senior Center":MAILTO:esimpson@waynetwp-il.org
END:VEVENT
BEGIN:VEVENT
DTSTART;TZID=America/Chicago:20250708T123000
DTEND;TZID=America/Chicago:20250708T140000
DTSTAMP:20260422T173649
CREATED:20250630T152925Z
LAST-MODIFIED:20250710T135338Z
UID:734-1751977800-1751983200@waynetwp.strivestg.com
SUMMARY:Mah Jongg
DESCRIPTION:Winning hands and good friends — that’s how we roll in Mah Jongg! \nCards and games are for SC members only. Contact the SC for information.
URL:https://waynetwp.strivestg.com/event/mah-jongg/
LOCATION:Wayne Township Senior Center\, 27W031 North Avenue\, West Chicago\, IL\, 60185\, United States
CATEGORIES:Senior Center
ORGANIZER;CN="Senior Center":MAILTO:esimpson@waynetwp-il.org
END:VEVENT
BEGIN:VEVENT
DTSTART;TZID=America/Chicago:20251007T113000
DTEND;TZID=America/Chicago:20251007T123000
DTSTAMP:20260422T173649
CREATED:20250729T210944Z
LAST-MODIFIED:20250729T210944Z
UID:1927-1759836600-1759840200@waynetwp.strivestg.com
SUMMARY:Medicare Workshops
DESCRIPTION:A local\, licensed\, independent agent will give a presentation regarding upcoming updates and additions to Medicare. \nPlease sign up for this event.
URL:https://waynetwp.strivestg.com/event/medicare-workshops/
LOCATION:Wayne Township Senior Center\, 27W031 North Avenue\, West Chicago\, IL\, 60185\, United States
CATEGORIES:Senior Center
ORGANIZER;CN="Senior Center":MAILTO:esimpson@waynetwp-il.org
END:VEVENT
BEGIN:VEVENT
DTSTART;TZID=America/Chicago:20250715T104500
DTEND;TZID=America/Chicago:20250715T233000
DTSTAMP:20260422T173649
CREATED:20250716T203133Z
LAST-MODIFIED:20250716T203719Z
UID:1807-1752576300-1752622200@waynetwp.strivestg.com
SUMMARY:Timed Fitness Session 2
DESCRIPTION:This class will allow you to work at your own pace\, increasing strength and stamina. Come check it out! \nExercise classes are for SC members only. If you are a WT resident and 55+\, contact the SC for information on how to join.
URL:https://waynetwp.strivestg.com/event/timed-fitness-session-2/
LOCATION:Wayne Township Senior Center\, 27W031 North Avenue\, West Chicago\, IL\, 60185\, United States
CATEGORIES:Senior Center
ORGANIZER;CN="Senior Center":MAILTO:esimpson@waynetwp-il.org
END:VEVENT
BEGIN:VEVENT
DTSTART;TZID=America/Chicago:20250603T100000
DTEND;TZID=America/Chicago:20250603T113000
DTSTAMP:20260422T173649
CREATED:20250625T202144Z
LAST-MODIFIED:20250715T194647Z
UID:1184-1748944800-1748950200@waynetwp.strivestg.com
SUMMARY:Volunteering at Phil's Friends
DESCRIPTION:Phil’s Friends is a not-for-profit organization whose mission is to provide Christ-centered support and hope to those affected by cancer. They need volunteers and we want to help make this happen. \nArrive at the SC by 10:00am. Our van driver\, Tom\, will transport you to Phil’s Friends in Wheaton where you will be dropped off at the door. Tom will then return at 11:30am to pick you up. \nThis volunteer opportunity is for SC members only. If you are a WT resident and 55+\, contact the SC for information on how to join. \nPlease sign up to attend. Maximum of 8 participants per date.
URL:https://waynetwp.strivestg.com/event/volunteering-at-phils-friends/
LOCATION:IL
CATEGORIES:Senior Center
ORGANIZER;CN="Senior Center":MAILTO:esimpson@waynetwp-il.org
END:VEVENT
BEGIN:VEVENT
DTSTART;TZID=America/Chicago:20250415T100000
DTEND;TZID=America/Chicago:20250415T104500
DTSTAMP:20260422T173649
CREATED:20250416T034044Z
LAST-MODIFIED:20250716T203607Z
UID:502-1744711200-1744713900@waynetwp.strivestg.com
SUMMARY:Timed Fitness Session 1
DESCRIPTION:This class will allow you to work at your own pace\, increasing strength and stamina. Come check it out! \nExercise classes are for SC members only. If you are a WT resident and 55+\, contact the SC for information on how to join.
URL:https://waynetwp.strivestg.com/event/timed-fitness/
LOCATION:Wayne Township Senior Center\, 27W031 North Avenue\, West Chicago\, IL\, 60185\, United States
CATEGORIES:Senior Center
ORGANIZER;CN="Senior Center":MAILTO:esimpson@waynetwp-il.org
END:VEVENT
BEGIN:VEVENT
DTSTART;TZID=America/Chicago:20250415T090000
DTEND;TZID=America/Chicago:20250415T220000
DTSTAMP:20260422T173649
CREATED:20250416T033730Z
LAST-MODIFIED:20250710T154713Z
UID:498-1744707600-1744754400@waynetwp.strivestg.com
SUMMARY:Tai Chi
DESCRIPTION:Breathe in\, stretch out\, and flow with us! \nExercise classes are for SC members only. If you are a WT resident and 55+\, contact the SC for information on how to join.
URL:https://waynetwp.strivestg.com/event/tai-chi/
LOCATION:Wayne Township Senior Center\, 27W031 North Avenue\, West Chicago\, IL\, 60185\, United States
CATEGORIES:Senior Center
ORGANIZER;CN="Senior Center":MAILTO:esimpson@waynetwp-il.org
END:VEVENT
BEGIN:VEVENT
DTSTART;TZID=America/Chicago:20250707T120000
DTEND;TZID=America/Chicago:20250707T140000
DTSTAMP:20260422T173649
CREATED:20250715T181935Z
LAST-MODIFIED:20250715T181935Z
UID:1734-1751889600-1751896800@waynetwp.strivestg.com
SUMMARY:Card Game 31 (1st Monday)
DESCRIPTION:Feeling lucky?  Grab your cards and join us for 31—where the goal is simple: get as close to 31 as possible and leave everyone else in the dust! The stakes are high\, the laughs are higher. Come play! \nCards and games are for SC members only.  Contact the SC for information.
URL:https://waynetwp.strivestg.com/event/card-game-31-1st-monday/
LOCATION:Wayne Township Senior Center\, 27W031 North Avenue\, West Chicago\, IL\, 60185\, United States
CATEGORIES:Senior Center
ORGANIZER;CN="Senior Center":MAILTO:esimpson@waynetwp-il.org
END:VEVENT
BEGIN:VEVENT
DTSTART;TZID=America/Chicago:20250609T120000
DTEND;TZID=America/Chicago:20250609T140000
DTSTAMP:20260422T173649
CREATED:20250609T191302Z
LAST-MODIFIED:20250709T192236Z
UID:712-1749470400-1749477600@waynetwp.strivestg.com
SUMMARY:Pinochle
DESCRIPTION:We’re always on the hunt for pinochle pros (or curious newbies)! Swing by and join the fun—your seat at the table is waiting! \nCards and games are for SC members only. Contact the SC for information.
URL:https://waynetwp.strivestg.com/event/pinochle/
LOCATION:Wayne Township Senior Center\, 27W031 North Avenue\, West Chicago\, IL\, 60185\, United States
CATEGORIES:Senior Center
ORGANIZER;CN="Senior Center":MAILTO:esimpson@waynetwp-il.org
END:VEVENT
BEGIN:VEVENT
DTSTART;TZID=America/Chicago:20251006T113000
DTEND;TZID=America/Chicago:20251006T130000
DTSTAMP:20260422T173649
CREATED:20250717T180858Z
LAST-MODIFIED:20250717T180858Z
UID:1860-1759750200-1759755600@waynetwp.strivestg.com
SUMMARY:Pinecone Craft
DESCRIPTION:Calling all crafters! \nPinecone crafts are the “in” thing right now and we are hopping on board. \nJoin SC staff to make a pinecone arrangement.  Choose any colors you want and get painting.  Pinecones\, paint\, holders\, sticks\, and vase fillers will be provided. \nLet your creativity take over and make your own custom craft. \n  \n 
URL:https://waynetwp.strivestg.com/event/pinecone-craft/
LOCATION:Wayne Township Senior Center\, 27W031 North Avenue\, West Chicago\, IL\, 60185\, United States
CATEGORIES:Senior Center
ORGANIZER;CN="Senior Center":MAILTO:esimpson@waynetwp-il.org
END:VEVENT
BEGIN:VEVENT
DTSTART;TZID=America/Chicago:20250609T110000
DTEND;TZID=America/Chicago:20250609T120000
DTSTAMP:20260422T173649
CREATED:20250609T191557Z
LAST-MODIFIED:20250710T145446Z
UID:716-1749466800-1749470400@waynetwp.strivestg.com
SUMMARY:Balance Boost
DESCRIPTION:Balance Boost helps build stability and balance through low impact exercises involving legs and core. Functional\, static and dynamic movement drills will help to keep your body stable. Join us if you need a little more balance or mobility in your life! \nExercise classes are for SC members only. If you are a WT resident and 55+\, contact the SC for information on how to join.
URL:https://waynetwp.strivestg.com/event/balance-boost/
LOCATION:Wayne Township Senior Center\, 27W031 North Avenue\, West Chicago\, IL\, 60185\, United States
CATEGORIES:Senior Center
ORGANIZER;CN="Senior Center":MAILTO:esimpson@waynetwp-il.org
END:VEVENT
BEGIN:VEVENT
DTSTART;TZID=America/Chicago:20251006T100000
DTEND;TZID=America/Chicago:20251006T110000
DTSTAMP:20260422T173649
CREATED:20250716T161146Z
LAST-MODIFIED:20250716T161146Z
UID:1765-1759744800-1759748400@waynetwp.strivestg.com
SUMMARY:Healthy Living
DESCRIPTION:A healthy eating lifestyle group. \nThis group is for SC members only. If you are a WT resident and 55+\, contact the SC for information on how to join.
URL:https://waynetwp.strivestg.com/event/healthy-living-6/
LOCATION:Wayne Township Senior Center\, 27W031 North Avenue\, West Chicago\, IL\, 60185\, United States
CATEGORIES:Senior Center
ORGANIZER;CN="Senior Center":MAILTO:esimpson@waynetwp-il.org
END:VEVENT
BEGIN:VEVENT
DTSTART;TZID=America/Chicago:20250414T100000
DTEND;TZID=America/Chicago:20250414T110000
DTSTAMP:20260422T173649
CREATED:20250416T032250Z
LAST-MODIFIED:20250710T155209Z
UID:493-1744624800-1744628400@waynetwp.strivestg.com
SUMMARY:Seated Yoga Second Session
DESCRIPTION:Seated yoga guides you through a series of seated yoga stretches\, all done from the comfort of a chair. Just relax\, sit\, breathe and stretch. Your body and mind will thank you. \nExercise classes are for SC members only. If you are a WT resident and 55+\, contact the SC for information on how to join.
URL:https://waynetwp.strivestg.com/event/seated-yoga-2/
LOCATION:Wayne Township Senior Center\, 27W031 North Avenue\, West Chicago\, IL\, 60185\, United States
CATEGORIES:Senior Center
ORGANIZER;CN="Senior Center":MAILTO:esimpson@waynetwp-il.org
END:VEVENT
BEGIN:VEVENT
DTSTART;TZID=America/Chicago:20250414T090000
DTEND;TZID=America/Chicago:20250414T100000
DTSTAMP:20260422T173649
CREATED:20250416T031408Z
LAST-MODIFIED:20250710T154908Z
UID:484-1744621200-1744624800@waynetwp.strivestg.com
SUMMARY:Seated Yoga First Session
DESCRIPTION:Seated yoga guides you through a series of seated yoga stretches\, all done from the comfort of a chair. Just relax\, sit\, breathe and stretch. Your body and mind will thank you. \nExercise classes are for SC members only. If you are a WT resident and 55+\, contact the SC for information on how to join.
URL:https://waynetwp.strivestg.com/event/seated-yoga/
LOCATION:Wayne Township Senior Center\, 27W031 North Avenue\, West Chicago\, IL\, 60185\, United States
CATEGORIES:Senior Center
ORGANIZER;CN="Senior Center":MAILTO:esimpson@waynetwp-il.org
END:VEVENT
BEGIN:VEVENT
DTSTART;TZID=America/Chicago:20250711T120000
DTEND;TZID=America/Chicago:20250711T140000
DTSTAMP:20260422T173649
CREATED:20250703T192844Z
LAST-MODIFIED:20250710T144131Z
UID:1399-1752235200-1752242400@waynetwp.strivestg.com
SUMMARY:Poker
DESCRIPTION:Bluffing is optional — fun is guaranteed! \nCards and games are for SC members only. If you are a WT resident and 55+\, contact the SC for information on how to join.
URL:https://waynetwp.strivestg.com/event/poker-2/
LOCATION:Wayne Township Senior Center\, 27W031 North Avenue\, West Chicago\, IL\, 60185\, United States
CATEGORIES:Senior Center
ORGANIZER;CN="Senior Center":MAILTO:esimpson@waynetwp-il.org
END:VEVENT
BEGIN:VEVENT
DTSTART;TZID=America/Chicago:20250711T120000
DTEND;TZID=America/Chicago:20250711T140000
DTSTAMP:20260422T173649
CREATED:20250701T194910Z
LAST-MODIFIED:20250710T142455Z
UID:1301-1752235200-1752242400@waynetwp.strivestg.com
SUMMARY:Darts
DESCRIPTION:Step up to the line – join the fun with darts! \nCards and games are for SC members only. If you are a WT resident and 55+\, contact the SC for information on how to join.
URL:https://waynetwp.strivestg.com/event/darts-2/
LOCATION:Wayne Township Senior Center\, 27W031 North Avenue\, West Chicago\, IL\, 60185\, United States
CATEGORIES:Senior Center
ORGANIZER;CN="Senior Center":MAILTO:esimpson@waynetwp-il.org
END:VEVENT
BEGIN:VEVENT
DTSTART;TZID=America/Chicago:20250711T110000
DTEND;TZID=America/Chicago:20250711T120000
DTSTAMP:20260422T173649
CREATED:20250703T193924Z
LAST-MODIFIED:20250716T202505Z
UID:1408-1752231600-1752235200@waynetwp.strivestg.com
SUMMARY:Knitting and Crocheting
DESCRIPTION:Join us in knitting hats for charity — beginners welcome! \nThis volunteer opportunity is for SC members only. If you are a WT resident and 55+\, contact the SC for information on how to join.
URL:https://waynetwp.strivestg.com/event/knitting-and-crocheting-2/
LOCATION:Wayne Township Senior Center\, 27W031 North Avenue\, West Chicago\, IL\, 60185\, United States
CATEGORIES:Senior Center
ORGANIZER;CN="Senior Center":MAILTO:esimpson@waynetwp-il.org
END:VEVENT
BEGIN:VEVENT
DTSTART;TZID=America/Chicago:20250606T100000
DTEND;TZID=America/Chicago:20250606T110000
DTSTAMP:20260422T173649
CREATED:20250630T153659Z
LAST-MODIFIED:20250710T155507Z
UID:1213-1749204000-1749207600@waynetwp.strivestg.com
SUMMARY:Body Balance
DESCRIPTION:Stretch\, Strengthen\, and Steady Yourself – Body Balance Style! \nExercise classes are for SC members only. If you are a WT resident and 55+\, contact the SC for information on how to join.
URL:https://waynetwp.strivestg.com/event/body-balance/
LOCATION:Wayne Township Senior Center\, 27W031 North Avenue\, West Chicago\, IL\, 60185\, United States
CATEGORIES:Senior Center
ORGANIZER;CN="Senior Center":MAILTO:esimpson@waynetwp-il.org
END:VEVENT
BEGIN:VEVENT
DTSTART;TZID=America/Chicago:20250711T090000
DTEND;TZID=America/Chicago:20250711T100000
DTSTAMP:20260422T173649
CREATED:20250703T194553Z
LAST-MODIFIED:20250710T144825Z
UID:1420-1752224400-1752228000@waynetwp.strivestg.com
SUMMARY:Tap Dance
DESCRIPTION:Shuffle\, Step\, Smile – It’s never too late to tap into fun! \nExercise classes are for SC members only. If you are a WT resident and 55+\, contact the SC for information on how to join.
URL:https://waynetwp.strivestg.com/event/tap-dance-2/
LOCATION:Wayne Township Senior Center\, 27W031 North Avenue\, West Chicago\, IL\, 60185\, United States
CATEGORIES:Senior Center
ORGANIZER;CN="Senior Center":MAILTO:esimpson@waynetwp-il.org
END:VEVENT
BEGIN:VEVENT
DTSTART;TZID=America/Chicago:20251003T080000
DTEND;TZID=America/Chicago:20251003T130000
DTSTAMP:20260422T173649
CREATED:20250710T203630Z
LAST-MODIFIED:20250710T203630Z
UID:1685-1759478400-1759496400@waynetwp.strivestg.com
SUMMARY:Savers FunDrive
DESCRIPTION:Collecting soft items\, hard items\, and books. \nAll items must be in a box or bag\, clean\, and in sellable condition.
URL:https://waynetwp.strivestg.com/event/savers-fundrive/
LOCATION:Wayne Township Senior Center\, 27W031 North Avenue\, West Chicago\, IL\, 60185\, United States
CATEGORIES:Senior Center
ORGANIZER;CN="Senior Center":MAILTO:esimpson@waynetwp-il.org
END:VEVENT
BEGIN:VEVENT
DTSTART;TZID=America/Chicago:20251002T090000
DTEND;TZID=America/Chicago:20251002T110000
DTSTAMP:20260422T173649
CREATED:20250710T181721Z
LAST-MODIFIED:20250729T210555Z
UID:1650-1759395600-1759402800@waynetwp.strivestg.com
SUMMARY:Senior Center Monthly Meeting
DESCRIPTION:Flu shots administered by Family Pharmacy beginning at 9:00am. \nThe second meeting is at 12:00pm.
URL:https://waynetwp.strivestg.com/event/senior-center-monthly-meeting-3/
LOCATION:Wayne Township Senior Center\, 27W031 North Avenue\, West Chicago\, IL\, 60185\, United States
CATEGORIES:Senior Center
ORGANIZER;CN="Senior Center":MAILTO:esimpson@waynetwp-il.org
END:VEVENT
BEGIN:VEVENT
DTSTART;TZID=America/Chicago:20250604T140000
DTEND;TZID=America/Chicago:20250604T153000
DTSTAMP:20260422T173649
CREATED:20250630T152536Z
LAST-MODIFIED:20250716T202159Z
UID:1201-1749045600-1749051000@waynetwp.strivestg.com
SUMMARY:Volleyball
DESCRIPTION:Less spike\, more smiles — beach ball volleyball\, senior style! \nThis activity is for SC members only. If you are a WT resident and 55+\, contact the SC for information on how to join.
URL:https://waynetwp.strivestg.com/event/volleyball/
LOCATION:Wayne Township Senior Center\, 27W031 North Avenue\, West Chicago\, IL\, 60185\, United States
CATEGORIES:Senior Center
ORGANIZER;CN="Senior Center":MAILTO:esimpson@waynetwp-il.org
END:VEVENT
BEGIN:VEVENT
DTSTART;TZID=America/Chicago:20250604T123000
DTEND;TZID=America/Chicago:20250604T150000
DTSTAMP:20260422T173649
CREATED:20250609T190142Z
LAST-MODIFIED:20250728T170726Z
UID:703-1749040200-1749049200@waynetwp.strivestg.com
SUMMARY:Bridge
DESCRIPTION:Join us for one of the most popular card games – Bridge!! \nCards and games are for SC members only. If you are a WT resident and 55+\, contact the SC for information on how to join.
URL:https://waynetwp.strivestg.com/event/bridge/
LOCATION:Wayne Township Senior Center\, 27W031 North Avenue\, West Chicago\, IL\, 60185\, United States
CATEGORIES:Senior Center
ORGANIZER;CN="Senior Center":MAILTO:esimpson@waynetwp-il.org
END:VEVENT
BEGIN:VEVENT
DTSTART;TZID=America/Chicago:20250416T121500
DTEND;TZID=America/Chicago:20250416T130000
DTSTAMP:20260422T173649
CREATED:20250416T040044Z
LAST-MODIFIED:20250710T151207Z
UID:522-1744805700-1744808400@waynetwp.strivestg.com
SUMMARY:Mat Yoga
DESCRIPTION:Mat Yoga s a gentle class progressing at a comfortable pace\, gradually flowing through a variety of seated or floor-based poses. The majority of class will be on your mat. \nPlease bring your own mat. \nExercise classes are for SC members only. If you are a WT resident and 55+\, contact the SC for information on how to join.
URL:https://waynetwp.strivestg.com/event/mat-yoga/
LOCATION:Wayne Township Senior Center\, 27W031 North Avenue\, West Chicago\, IL\, 60185\, United States
CATEGORIES:Senior Center
ORGANIZER;CN="Senior Center":MAILTO:esimpson@waynetwp-il.org
END:VEVENT
BEGIN:VEVENT
DTSTART;TZID=America/Chicago:20250416T120000
DTEND;TZID=America/Chicago:20250416T140000
DTSTAMP:20260422T173649
CREATED:20250416T035656Z
LAST-MODIFIED:20250710T151303Z
UID:518-1744804800-1744812000@waynetwp.strivestg.com
SUMMARY:Cards: Hand & Foot and Pok-A-Dice
DESCRIPTION:Join us for these two popular games. \nCards and games are for SC members only. If you are a WT resident and 55+\, contact the SC for information on how to join.
URL:https://waynetwp.strivestg.com/event/cards-hand-foot-and-pok-a-dice/
LOCATION:Wayne Township Senior Center\, 27W031 North Avenue\, West Chicago\, IL\, 60185\, United States
CATEGORIES:Senior Center
ORGANIZER;CN="Senior Center":MAILTO:esimpson@waynetwp-il.org
END:VEVENT
BEGIN:VEVENT
DTSTART;TZID=America/Chicago:20250716T110000
DTEND;TZID=America/Chicago:20250716T120000
DTSTAMP:20260422T173649
CREATED:20250715T170412Z
LAST-MODIFIED:20250715T170412Z
UID:1710-1752663600-1752667200@waynetwp.strivestg.com
SUMMARY:Line Dancing
DESCRIPTION:No experience needed—just a smile and a little swing in your step! \nExercise classes are for SC members only. If you are a WT resident and 55+\, contact the SC for information on how to join.
URL:https://waynetwp.strivestg.com/event/line-dancing-2/
LOCATION:Wayne Township Senior Center\, 27W031 North Avenue\, West Chicago\, IL\, 60185\, United States
CATEGORIES:Senior Center
ORGANIZER;CN="Senior Center":MAILTO:esimpson@waynetwp-il.org
END:VEVENT
BEGIN:VEVENT
DTSTART;TZID=America/Chicago:20250708T123000
DTEND;TZID=America/Chicago:20250708T140000
DTSTAMP:20260422T173649
CREATED:20250630T152925Z
LAST-MODIFIED:20250710T135338Z
UID:734-1751977800-1751983200@waynetwp.strivestg.com
SUMMARY:Mah Jongg
DESCRIPTION:Winning hands and good friends — that’s how we roll in Mah Jongg! \nCards and games are for SC members only. Contact the SC for information.
URL:https://waynetwp.strivestg.com/event/mah-jongg/
LOCATION:Wayne Township Senior Center\, 27W031 North Avenue\, West Chicago\, IL\, 60185\, United States
CATEGORIES:Senior Center
ORGANIZER;CN="Senior Center":MAILTO:esimpson@waynetwp-il.org
END:VEVENT
BEGIN:VEVENT
DTSTART;TZID=America/Chicago:20250715T104500
DTEND;TZID=America/Chicago:20250715T233000
DTSTAMP:20260422T173649
CREATED:20250716T203133Z
LAST-MODIFIED:20250716T203719Z
UID:1807-1752576300-1752622200@waynetwp.strivestg.com
SUMMARY:Timed Fitness Session 2
DESCRIPTION:This class will allow you to work at your own pace\, increasing strength and stamina. Come check it out! \nExercise classes are for SC members only. If you are a WT resident and 55+\, contact the SC for information on how to join.
URL:https://waynetwp.strivestg.com/event/timed-fitness-session-2/
LOCATION:Wayne Township Senior Center\, 27W031 North Avenue\, West Chicago\, IL\, 60185\, United States
CATEGORIES:Senior Center
ORGANIZER;CN="Senior Center":MAILTO:esimpson@waynetwp-il.org
END:VEVENT
BEGIN:VEVENT
DTSTART;TZID=America/Chicago:20250415T100000
DTEND;TZID=America/Chicago:20250415T104500
DTSTAMP:20260422T173649
CREATED:20250416T034044Z
LAST-MODIFIED:20250716T203607Z
UID:502-1744711200-1744713900@waynetwp.strivestg.com
SUMMARY:Timed Fitness Session 1
DESCRIPTION:This class will allow you to work at your own pace\, increasing strength and stamina. Come check it out! \nExercise classes are for SC members only. If you are a WT resident and 55+\, contact the SC for information on how to join.
URL:https://waynetwp.strivestg.com/event/timed-fitness/
LOCATION:Wayne Township Senior Center\, 27W031 North Avenue\, West Chicago\, IL\, 60185\, United States
CATEGORIES:Senior Center
ORGANIZER;CN="Senior Center":MAILTO:esimpson@waynetwp-il.org
END:VEVENT
BEGIN:VEVENT
DTSTART;TZID=America/Chicago:20250415T090000
DTEND;TZID=America/Chicago:20250415T220000
DTSTAMP:20260422T173649
CREATED:20250416T033730Z
LAST-MODIFIED:20250710T154713Z
UID:498-1744707600-1744754400@waynetwp.strivestg.com
SUMMARY:Tai Chi
DESCRIPTION:Breathe in\, stretch out\, and flow with us! \nExercise classes are for SC members only. If you are a WT resident and 55+\, contact the SC for information on how to join.
URL:https://waynetwp.strivestg.com/event/tai-chi/
LOCATION:Wayne Township Senior Center\, 27W031 North Avenue\, West Chicago\, IL\, 60185\, United States
CATEGORIES:Senior Center
ORGANIZER;CN="Senior Center":MAILTO:esimpson@waynetwp-il.org
END:VEVENT
END:VCALENDAR